{"text_format":"3","workbook":"xlsx","n_sheets":8,"sheets":["AutoOpen Stub Data","Anpassa faktura","Faktura","ATW","Macros","Lock","Int_ Data Table","TemplateInformation"],"not_rendered":{"images":4,"defined_names":136,"comments":1},"read":"whole","date_system":"1900"}

{"sheet":"AutoOpen Stub Data","index":0,"n_rows":10,"n_cols":1,"rows_kept":10,"hidden":true}
[{"$f":"IF(ISERROR(MATCH(3,_1NAME(),0)),TRUE)","v":true}]
[{"$f":"_1NAME()","v":{"$error":"#NAME?"}}]
[{"$f":"_1NAME()","v":{"$error":"#NAME?"}}]
[{"$f":"_1NAME()","v":{"$error":"#NAME?"}}]
[{"$f":"IF(ISERROR(A3),TRUE)","v":true}]
[{"$f":"_1NAME()","v":{"$error":"#NAME?"}}]
[{"$f":"_1NAME()","v":{"$error":"#NAME?"}}]
[{"$f":"_1NAME()","v":{"$error":"#NAME?"}}]
[{"$f":"_1NAME()","v":{"$error":"#NAME?"}}]
[{"$f":"_1NAME()","v":{"$error":"#NAME?"}}]

{"sheet":"Anpassa faktura","index":1,"n_rows":51,"n_cols":7,"rows_kept":51,"hidden":true,"merged":[[3,3,3,4],[9,3,9,4],[18,3,18,4],[31,5,31,6],[34,3,34,4]]}
[]
[]
[]
[{"$nulls":3},"ANPASSA FAKTURA"]
[]
[]
[{"$nulls":6},"Placera pekaren"]
[{"$nulls":6}," HÄR för att få ett tips!"]
[]
[{"$nulls":3},"Ange företagsinformation här…"]
[]
[{"$nulls":3},"Företagsnamn ","Malmö Klätterklubb                      c/o Pia Eliasson"]
[{"$nulls":3},"Adress ","Idunav 24"]
[{"$nulls":3},"Postnummer ","216 19"]
[{"$nulls":3},"Postort ","Malmö"]
[]
[]
[]
[{"$nulls":3},"Ange standardinformation för fakturor här…"]
[]
[{"$nulls":6},"Betalningsformer"]
[{"$nulls":3},"Försäljningsskatt  ","MOMS",null,"Bankgiro"]
[{"$nulls":3},"Procentsats ",{"v":0.25,"d":"25.00%"},null,"Check"]
[{"$nulls":3},{"$f":"FALSE","v":false},"Använd försäljningsskatten",null,"Postgiro"]
[{"$nulls":6},"Kontant"]
[{"$nulls":3},"Annan avgift  "]
[{"$nulls":3},"Procentsats ",null,"Fraktkostnader "]
[{"$nulls":3},{"$f":"FALSE","v":false},"Använd den här avgiften"]
[]
[{"$nulls":4},"Dela fakturanummer på nätverket","Numreringsfil "]
[]
[{"$nulls":4},"Databas för mallguiden  ",{"$f":"LOWER(TemplateInformation!B3)","v":"c:\\program\\microsoft office\\office\\makrobib\\fakturdb.xls"}]
[]
[]
[{"$nulls":3},"Formaterad information"]
{"$rows_empty":11}
[{"$nulls":4},1]
[{"$nulls":4},0]
[{"$nulls":4},{"$f":"FALSE","v":false}]
[]
[{"$nulls":4},"Faktura"]

{"sheet":"Faktura","index":2,"n_rows":72,"n_cols":12,"rows_kept":72,"merged":[[12,4,12,8],[13,4,13,8],[15,4,15,8],[17,4,17,9],[18,4,18,9],[19,4,19,9],[20,4,20,9],[21,4,21,9],[22,4,22,9],[23,4,23,9],[24,4,24,9],[25,4,25,9],[26,4,26,9],[27,4,27,9],[28,4,28,9],[29,4,29,9],[30,4,30,9],[31,4,31,9],[32,4,32,9],[33,4,33,9],[34,4,34,9],[35,4,35,9],[36,4,36,9],[37,4,37,9],[39,5,39,7],[40,5,40,7],[43,3,45,5]]}
[]
[]
[{"$nulls":10},"Fakturanr",20180101]
{"$rows_empty":9}
[{"$nulls":3},"Namn","Anders andersson",{"$nulls":5},"Datum","2018-01-01"]
[{"$nulls":3},"Adress","Gatnamn 14",{"$nulls":5},"Ärende","kurserksamhet"]
[{"$nulls":3},"Postnr","200 00","Postort  ","Malmö",{"$nulls":3},"Vår ref","Ralph Strandvoll"]
[{"$nulls":3},"Annat","Annan info som epost eller liknande",{"$nulls":5},"Er ref","Anders Andersson"]
[]
[{"$nulls":3},"Antal","Beskrivning",{"$nulls":5},"à pris","Belopp"]
[{"$nulls":3},1,"Beksrivning",{"$nulls":5},{"v":100,"d":"100.00 kr"},{"$f":"IF(D19<>\"\",D19*K19,\"\")","v":{"v":100,"d":"100.00 kr"}}]
[{"$nulls":3},2,"Beskrivning",{"$nulls":5},{"v":100,"d":"100.00 kr"},{"$f":"IF(D20<>\"\",D20*K20,\"\")","v":{"v":200,"d":"200.00 kr"}}]
[{"$nulls":3},3,"Beskrvining",{"$nulls":5},{"v":100,"d":"100.00 kr"},{"$f":"IF(D21<>\"\",D21*K21,\"\")","v":{"v":300,"d":"300.00 kr"}}]
[{"$nulls":11},{"$f":"IF(D22<>\"\",D22*K22,\"\")","v":""}]
[{"$nulls":11},{"$f":"IF(D23<>\"\",D23*K23,\"\")","v":""}]
[{"$nulls":11},{"$f":"IF(D24<>\"\",D24*K24,\"\")","v":""}]
[{"$nulls":11},{"$f":"IF(D25<>\"\",D25*K25,\"\")","v":""}]
[{"$nulls":11},""]
[{"$nulls":11},""]
[{"$nulls":11},""]
[{"$nulls":11},""]
[{"$nulls":11},""]
[{"$nulls":11},""]
[{"$nulls":11},""]
[{"$nulls":11},""]
[{"$nulls":11},""]
[{"$nulls":11},""]
[{"$nulls":11},""]
[{"$nulls":11},""]
[{"$nulls":10},"Summa ",{"$f":"SUM(L19:L37)","v":{"v":600,"d":"600.00 kr"}}]
[{"$nulls":11},{"$f":"IF(L38>0,dflt7,\"\")","v":{"v":0,"d":"0.00 kr"}}]
[{"$nulls":3},"Betalningsform",null,"Bankgiro",{"$nulls":5},{"$f":"IF(L$38>0,IF(dflt3,L$38*dflt2,\"\"),\"\")","v":""}]
[{"$nulls":3},"  Förfallodag",null,"2018-01-01",{"$nulls":4},{"$f":"IF(dflt4<>\"\",dflt4,\"\")","v":""},{"$f":"IF(L$38>0,IF(dflt6,L$38*dflt5,\"\"),\"\")","v":""}]
[{"$nulls":8}," ",null,"Att betala",{"$f":"SUM(L38:L41)","v":{"v":600,"d":"600.00 kr"}}]
[{"$nulls":8}," "]
[{"$nulls":3},"Malmö City Skaters är en ideell förening"]
{"$rows_empty":12}
[{"$nulls":3},"Malmö City Skaters",null,"e-mail:","ralph.strandvoll@gmail.com",{"$nulls":3},"Bankgiro:","149-3014"]
[{"$nulls":3},"c/o Ralph Strandvoll"]
[{"$nulls":3},"Östra kristinelundsvägen 25b",{"$nulls":6},"Org nr:","802470-0943"]
[{"$nulls":3},"217 48  Malmö"]
{"$rows_empty":8}
[null,null,{"$f":"'Anpassa faktura'!G22","v":"Bankgiro"}]
[null,null,{"$f":"'Anpassa faktura'!G23","v":"Check"}]
[null,null,{"$f":"'Anpassa faktura'!G24","v":"Postgiro"}]
[null,null,{"$f":"'Anpassa faktura'!G25","v":"Kontant"}]

{"sheet":"ATW","index":3,"n_rows":0,"n_cols":0,"rows_kept":0,"hidden":true}

{"sheet":"Macros","index":4,"n_rows":0,"n_cols":0,"rows_kept":0,"hidden":true}

{"sheet":"Lock","index":5,"n_rows":0,"n_cols":0,"rows_kept":0,"hidden":true}

{"sheet":"Int_ Data Table","index":6,"n_rows":3,"n_cols":9,"rows_kept":3,"hidden":true}
[]
[{"$nulls":3},"US","British","Canadian","Austrailian","New Zealand","Ireland"]
["Sheet Name","Cell Address","Action Code"]

{"sheet":"TemplateInformation","index":7,"n_rows":9,"n_cols":11,"rows_kept":9,"hidden":true}
["AutoTemplateWizardDONTMESSWITHIT"]
["Databastyp:","Excel 5.0"]
["Databasläge:","C:\\Program\\Microsoft Office\\Office\\MAKROBIB\\Fakturdb.xls"]
["Reserved"]
["Antal tabeller:",1]
[1,"Tabellnamn:","Tabell1","Antal fält:",10,null,0]
["Fältnamn:","Fakturanr","Datum för faktura","Kund","Adress","Postnummer","Postort","Land","Telefon","Belopp, faktura","Vår ref"]
["Refererar till:",{"$f":"Faktura!$L$3","v":20180101},{"$f":"Faktura!$L$13","v":"2018-01-01"},{"$f":"Faktura!$E$13","v":"Anders andersson"},{"$f":"Faktura!$E$14","v":"Gatnamn 14"},{"$f":"Faktura!$E$15","v":"200 00"},{"$f":"Faktura!$G$15","v":"Malmö"},{"$f":"Faktura!$I$15","v":0},{"$f":"Faktura!$E$16","v":"Annan info som epost eller liknande"},{"$f":"Faktura!$L$42","v":600},{"$f":"Faktura!$L$15","v":"Ralph Strandvoll"}]
["Reserved"]